BEGIN:VCALENDAR
VERSION:2.0
PRODID:-//Baptiste Romain - ECPv5.3.1.1//NONSGML v1.0//EN
CALSCALE:GREGORIAN
METHOD:PUBLISH
X-WR-CALNAME:Baptiste Romain
X-ORIGINAL-URL:https://www.baptisteromain.com
X-WR-CALDESC:Events for Baptiste Romain
BEGIN:VTIMEZONE
TZID:UTC
BEGIN:STANDARD
TZOFFSETFROM:+0000
TZOFFSETTO:+0000
TZNAME:UTC
DTSTART:20230101T000000
END:STANDARD
END:VTIMEZONE
BEGIN:VEVENT
DTSTART;TZID=UTC:20230626T150000
DTEND;TZID=UTC:20230626T170000
DTSTAMP:20260421T094556
CREATED:20230426T083701Z
LAST-MODIFIED:20230426T083701Z
UID:235227-1687791600-1687798800@www.baptisteromain.com
SUMMARY:Per Sonat - Minne
DESCRIPTION:“Minne“\nHildegard von Bingen & Walther von der Vogelweide\nEnsemble PER-SONAT\nTessa Roos und Christine Mothes\, Gesang\nBaptiste Romain\, Fidel\, Dudelsack\nSabine Lutzenberger\, Gesang und Leitung
URL:https://www.baptisteromain.com/event/per-sonat-minne-2/
LOCATION:Bingen\, Germany
END:VEVENT
BEGIN:VEVENT
DTSTART;TZID=UTC:20230702T120000
DTEND;TZID=UTC:20230702T170000
DTSTAMP:20260421T094556
CREATED:20230426T083903Z
LAST-MODIFIED:20230426T083903Z
UID:235230-1688299200-1688317200@www.baptisteromain.com
SUMMARY:Per Sonat - Invisible
DESCRIPTION:DE VERBORGEN WERELD VAN DE CISTERCIËNZERINNEN\n“Ontelbaar als de sterren aan de hemel\,” zo beschreef Jacob van Vitry rond 1220 de snelle uitbreiding van vrouwenkloosters. Toch bleven hun bewoonsters onzichtbaar voor de buitenwereld en zelfs in de kerk waren ze niet zichtbaar\, maar wel hoorbaar. De eenvoud en zuiverheid van de cisterciënzergezangen stemmen tot contemplatie maar ook tot extase. Met gezangen en manuscripten uit Bohemen\, het 800 jaar oude Kloster Wonnetal en uit het Spaanse Burgos (de beroemde Codex Las Huelgas) evoceert Per-Sonat een intieme en betoverende wereld vol middeleeuwse verfijning.
URL:https://www.baptisteromain.com/event/per-sonat-invisible/
LOCATION:St Machariuskerk\, Gent\, Belgium
END:VEVENT
BEGIN:VEVENT
DTSTART;TZID=UTC:20230724T190000
DTEND;TZID=UTC:20230724T190000
DTSTAMP:20260421T094556
CREATED:20230426T084127Z
LAST-MODIFIED:20230426T084127Z
UID:235233-1690225200-1690225200@www.baptisteromain.com
SUMMARY:Per Sonat - (V)erdichtete Leben
DESCRIPTION:Leonardo da Vinci und die Musik seiner Zeit \nmit Musik von Oswald von Wolkenstein\, GUillaume Dufay\, Johannes Ciconia  \nPERSONAT\nSabine Lutzenberger – Baptiste Romain – Marc Lewon \nLeonardo da Vinci\, der selbst Laute spielte könnte in seinem künstlerischen Umfeld die Musik der fahrenden Musiker seiner Zeit gehört haben. Musiker\, Sänger und Komponisten des Mittelalters und der Renaissance waren international vernetzt und oft auf Reisen. Die Auswahl der Lieder in diesem Programm enthalten Hinweise auf wahre Begebenheiten wie in Aler m’en veus von Johannes Ciconia erste Reise von Lüttich nach Rom in den 1390er Jahren. Oder in Adieu ces bons vins de Lannoys – Der Besuch von Guillaume Du Fay\, 1426 in Cambrai zwischen Pesaro und Bologna. Das Publikum erwartet ein vergnüglicher Abend mit dem Ensemble PER-SONAT und der höfischen Musik der frühen Renaissance.
URL:https://www.baptisteromain.com/event/per-sonat-verdichtete-leben/
LOCATION:Rathaus München\, Germany
END:VEVENT
END:VCALENDAR